BEGIN:VCALENDAR
VERSION:2.0
PRODID:-//eventon.com NONSGML v1.0//EN
BEGIN:VEVENT
UID:69eba2b6c52d8
DTSTAMP:20260424T170454
DTSTART:20211010T000000Z
DTEND:20211011T235900Z
LOCATION:
SUMMARY:Visita nocturna Aran Park
DESCRIPTION: Información: https://www.aran-park.es
END:VEVENT
END:VCALENDAR