BEGIN:VCALENDAR
VERSION:2.0
PRODID:-//eventon.com NONSGML v1.0//EN
BEGIN:VEVENT
UID:69e4d43925dae
DTSTAMP:20260419T131017
DTSTART:20220910T173000Z
DTEND:20220911T123000Z
LOCATION:
SUMMARY:Trail Val de Toran
DESCRIPTION: 
END:VEVENT
END:VCALENDAR