BEGIN:VCALENDAR
VERSION:2.0
PRODID:-//eventon.com NONSGML v1.0//EN
BEGIN:VEVENT
UID:69e7af75ee861
DTSTAMP:20260421T171013
DTSTART:20241031T000000Z
DTEND:20241031T000000Z
LOCATION:
SUMMARY:CASTANHADA SALARDÚ 2024
DESCRIPTION: 
END:VEVENT
END:VCALENDAR