BEGIN:VCALENDAR
VERSION:2.0
PRODID:-//eventon.com NONSGML v1.0//EN
BEGIN:VEVENT
UID:69e7ea50bf06d
DTSTAMP:20260421T212120
DTSTART:20241219T000000Z
DTEND:20250105T000000Z
LOCATION:
SUMMARY:NADAU EN SALARDÚ
DESCRIPTION: NADAU EN SALARDÚ
END:VEVENT
END:VCALENDAR