BEGIN:VCALENDAR
VERSION:2.0
PRODID:-//eventon.com NONSGML v1.0//EN
BEGIN:VEVENT
UID:69ecf14ec4ae7
DTSTAMP:20260425T165230
DTSTART:20251205T000000Z
DTEND:20251208T000000Z
LOCATION:
SUMMARY:ARTIES- MERCADO SEGUNDA MANO DE MATERIAL DE MONTAÑA
DESCRIPTION: ARTIES- MERCADO SEGUNDA MANO DE MATERIAL DE MONTAÑA
END:VEVENT
END:VCALENDAR