BEGIN:VCALENDAR
VERSION:2.0
PRODID:-//eventon.com NONSGML v1.0//EN
BEGIN:VEVENT
UID:69e633a8e722e
DTSTAMP:20260420T140944
DTSTART:20251207T000000Z
DTEND:20251207T000000Z
LOCATION:
SUMMARY:FERIA DE NAVIDAD - MERCADO DE LA PURISIMA LES
DESCRIPTION: FERIA DE NAVIDAD - MERCADO DE LA PURISIMA LES
END:VEVENT
END:VCALENDAR