BEGIN:VCALENDAR
VERSION:2.0
PRODID:-//eventon.com NONSGML v1.0//EN
BEGIN:VEVENT
UID:69e633a8cedd1
DTSTAMP:20260420T140944
DTSTART:20260401T000000Z
DTEND:20260405T000000Z
LOCATION:
SUMMARY:JUEGOS INFLABLES - ARTIES
DESCRIPTION: JUEGOS INFLABLES - ARTIES
END:VEVENT
END:VCALENDAR